BEGIN:VCALENDAR
VERSION:2.0
PRODID:spatie/icalendar-generator
DESCRIPTION:Events from Age Concern Stourbridge &amp;amp\; Halesowen
X-WR-CALDESC:Events from Age Concern Stourbridge &amp;amp\; Halesowen
REFRESH-INTERVAL;VALUE=DURATION:PT1440M
X-PUBLISHED-TTL:PT1440M
BEGIN:VTIMEZONE
TZID:Europe/London
BEGIN:DAYLIGHT
DTSTART:20240331T010000Z
TZOFFSETFROM:+0000
TZOFFSETTO:+0100
END:DAYLIGHT
BEGIN:STANDARD
DTSTART:20241027T020000Z
TZOFFSETFROM:+0100
TZOFFSETTO:+0000
END:STANDARD
END:VTIMEZONE
BEGIN:VTIMEZONE
TZID:UTC
BEGIN:STANDARD
DTSTART:20250725T081011Z
TZOFFSETFROM:+0000
TZOFFSETTO:+0000
END:STANDARD
END:VTIMEZONE
BEGIN:VEVENT
UID:14607-73
DTSTAMP:20260421T081011Z
SUMMARY:Talkin’ Tables (coffee/tea &amp;amp\; chat)
LOCATION:The Elton Centre Age Concern Stourbridge St John\\'s Rd Stourbridg
 e West Mids DY8 1HA
ORGANIZER;CN=WebAdmin:MAILTO:garth@acsh.org.uk
RRULE:FREQ=WEEKLY;COUNT=0
DTSTART;TZID=Europe/London:20240916T103000
DTEND;TZID=Europe/London:20240916T113000
X-ALT-DESC;FMTTYPE=TEXT/HTML:
CATEGORIES:Adults
URL;VALUE=URI:https://acsh.org.uk/mc-events/talkin-tables-coffee-tea-chat/?
 mc_id=14607
METHOD:PUBLISH
END:VEVENT
END:VCALENDAR