BEGIN:VCALENDAR
VERSION:2.0
PRODID:spatie/icalendar-generator
DESCRIPTION:Events from Age Concern Stourbridge &amp;amp\; Halesowen
X-WR-CALDESC:Events from Age Concern Stourbridge &amp;amp\; Halesowen
REFRESH-INTERVAL;VALUE=DURATION:PT1440M
X-PUBLISHED-TTL:PT1440M
BEGIN:VTIMEZONE
TZID:Europe/London
BEGIN:DAYLIGHT
DTSTART:20240331T010000Z
TZOFFSETFROM:+0000
TZOFFSETTO:+0100
END:DAYLIGHT
BEGIN:STANDARD
DTSTART:20241027T020000Z
TZOFFSETFROM:+0100
TZOFFSETTO:+0000
END:STANDARD
BEGIN:DAYLIGHT
DTSTART:20250330T010000Z
TZOFFSETFROM:+0000
TZOFFSETTO:+0100
END:DAYLIGHT
END:VTIMEZONE
BEGIN:VTIMEZONE
TZID:UTC
BEGIN:STANDARD
DTSTART:20250725T093717Z
TZOFFSETFROM:+0000
TZOFFSETTO:+0000
END:STANDARD
END:VTIMEZONE
BEGIN:VEVENT
UID:11104-46
DTSTAMP:20260421T093717Z
SUMMARY:Stourbridge U3A Gardening Club (monthly) 🔐
LOCATION:The Elton Centre Age Concern Stourbridge St John\\'s Rd Stourbridg
 e West Mids DY8 1HA
ORGANIZER;CN=WebAdmin:MAILTO:garth@acsh.org.uk
RRULE:FREQ=MONTHLY;BYDAY=2WE;COUNT=0
DTSTART;TZID=Europe/London:20241009T100000
DTEND;TZID=Europe/London:20241009T120000
X-ALT-DESC;FMTTYPE=TEXT/HTML:Private activity. Every 2nd Wednesday of the m
 onth.
CATEGORIES:Adults,  Private
URL;VALUE=URI:https://acsh.org.uk/mc-events/stourbridge-u3a-gardening-club-
 monthly-%f0%9f%94%90/?mc_id=11104
METHOD:PUBLISH
END:VEVENT
END:VCALENDAR